BEGIN:VCALENDAR
PRODID:-//eluceo/ical//2.0/EN
VERSION:2.0
CALSCALE:GREGORIAN
BEGIN:VEVENT
UID:7b097cf7a42abe31dd21efbac785d6d7
DTSTAMP:20260423T013406Z
SUMMARY:JFCM - Annual Meeting - Virtual
DESCRIPTION:Jewish Federation of Central Massachusetts\nCalendar\nhttps://j
 ewishcentralmass.org/calendar/jfcm-annual-meeting\n\nJFCM Annual Meeting -
  Virtual\n\nPlease RSVP to director@jfcm.org for meeting link
DTSTART;TZID=America/New_York:20211005T193000
DTEND;TZID=America/New_York:20211005T210000
END:VEVENT
END:VCALENDAR
