BEGIN:VCALENDAR
PRODID:-//eluceo/ical//2.0/EN
VERSION:2.0
CALSCALE:GREGORIAN
BEGIN:VEVENT
UID:11d55b6cb7ff6d317bcef8a96ee25134
DTSTAMP:20260421T045512Z
SUMMARY:JFCM Allocations Meeting
DESCRIPTION:Jewish Federation of Central Massachusetts\nCalendar\nhttps://j
 ewishcentralmass.org/calendar/jfcm-allocations-meeting23\n\nJFCM Allocatio
 ns Comm
DTSTART;TZID=America/New_York:20150421T183000
DTEND;TZID=America/New_York:20150421T200000
END:VEVENT
END:VCALENDAR
