BEGIN:VCALENDAR
PRODID:-//eluceo/ical//2.0/EN
VERSION:2.0
CALSCALE:GREGORIAN
BEGIN:VEVENT
UID:8d15ba0ae2a2c97e6fcc7137c70c669b
DTSTAMP:20260422T103039Z
SUMMARY:JFCM Allocations Meeting
DESCRIPTION:Jewish Federation of Central Massachusetts\nCalendar\nhttps://j
 ewishcentralmass.org/calendar/jfcm-allocations-meeting\n\nJFCM Allocations
  Mtg
DTSTART;TZID=America/New_York:20140420T093000
DTEND;TZID=America/New_York:20140420T120000
END:VEVENT
END:VCALENDAR
