BEGIN:VCALENDAR
PRODID:-//eluceo/ical//2.0/EN
VERSION:2.0
CALSCALE:GREGORIAN
BEGIN:VEVENT
UID:81d6ff3883549d16be5bf1a8d9ae9e07
DTSTAMP:20260420T160619Z
SUMMARY:JFCM Allocations Committee Meeting  2024
DESCRIPTION:Jewish Federation of Central Massachusetts\nCalendar\nhttps://j
 ewishcentralmass.org/calendar/jfcm-allocations-committee-meeting-2024\n\nW
 ednesday\, May 29 at 6:30 pm JFCM Allocations Committee Meeting (via zoom)
DTSTART;TZID=America/New_York:20240529T183000
DTEND;TZID=America/New_York:20240529T203000
END:VEVENT
END:VCALENDAR
