BEGIN:VCALENDAR
PRODID:-//eluceo/ical//2.0/EN
VERSION:2.0
CALSCALE:GREGORIAN
BEGIN:VEVENT
UID:930fe46d1f24f405065e6eda040c570b
DTSTAMP:20260423T070350Z
SUMMARY:JFCM Allocations Committee Meeting 2
DESCRIPTION:Jewish Federation of Central Massachusetts\nCalendar\nhttps://j
 ewishcentralmass.org/calendar/jfcm-allocations-committee-meeting-2\n\nJFCM
  Allocations Committee Meeting\n\nMay 7 - 5:30 pm
DTSTART;TZID=America/New_York:20200507T173000
DTEND;TZID=America/New_York:20200507T193000
END:VEVENT
END:VCALENDAR
