BEGIN:VCALENDAR
PRODID:-//eluceo/ical//2.0/EN
VERSION:2.0
CALSCALE:GREGORIAN
BEGIN:VEVENT
UID:220a9e3f6f343d083c9ff8d0f864021c
DTSTAMP:20260423T200301Z
SUMMARY:JFCM Allocations Committee Meeting 1
DESCRIPTION:Jewish Federation of Central Massachusetts\nCalendar\nhttps://j
 ewishcentralmass.org/calendar/jfcm-allocations-committee-meeting-1\n\nJFCM
  Allocations Committee Meeting\n\nApril 30 - 5:30 pm\n\nMay 7 - 5:30 pm
DTSTART;TZID=America/New_York:20200430T173000
DTEND;TZID=America/New_York:20200430T193000
END:VEVENT
END:VCALENDAR
