BEGIN:VCALENDAR
PRODID:-//eluceo/ical//2.0/EN
VERSION:2.0
CALSCALE:GREGORIAN
BEGIN:VEVENT
UID:398d22c1462d8e853cbb45f80cb75af8
DTSTAMP:20260423T085954Z
SUMMARY:JFCM Allocations Committee
DESCRIPTION:Jewish Federation of Central Massachusetts\nCalendar\nhttps://j
 ewishcentralmass.org/calendar/jfcm-allocations-committee\n\nJFCM Allocatio
 ns Committee - 7:30 pm
DTSTART;TZID=America/New_York:20210511T193000
DTEND;TZID=America/New_York:20210511T210000
END:VEVENT
END:VCALENDAR
