BEGIN:VCALENDAR
PRODID:-//eluceo/ical//2.0/EN
VERSION:2.0
CALSCALE:GREGORIAN
BEGIN:VEVENT
UID:4d5cb3bc373e59be7219a37110969a6e
DTSTAMP:20260424T114926Z
SUMMARY:JFCM Afula Chefs Visit
DESCRIPTION:Jewish Federation of Central Massachusetts\nCalendar\nhttps://j
 ewishcentralmass.org/calendar/jfcm-afula-chefs-visit2\n\nJFCM Afula Chefs 
 Visit
DTSTART;TZID=America/New_York:20160513T120000
DTEND;TZID=America/New_York:20160513T140000
END:VEVENT
END:VCALENDAR
