BEGIN:VCALENDAR
PRODID:-//eluceo/ical//2.0/EN
VERSION:2.0
CALSCALE:GREGORIAN
BEGIN:VEVENT
UID:618bc18893f1b8c38a93878d0e04f139
DTSTAMP:20260423T024430Z
SUMMARY:JFCM 2020 Annual Meeting
DESCRIPTION:Jewish Federation of Central Massachusetts\nCalendar\nhttps://j
 ewishcentralmass.org/calendar/jfcm-2020-annual-meeting\n\nJFCM 2020 Annual
  Meeting on September 9 at 7:30 pm
DTSTART;TZID=America/New_York:20200909T193000
DTEND;TZID=America/New_York:20200909T213000
END:VEVENT
END:VCALENDAR
