BEGIN:VCALENDAR
PRODID:-//eluceo/ical//2.0/EN
VERSION:2.0
CALSCALE:GREGORIAN
BEGIN:VEVENT
UID:ad44f7179cd4bf5769ecc24b09d57a33
DTSTAMP:20260422T110522Z
SUMMARY:JFCM 13th Year Anniversary of the Israeli Young Emissary Program
DESCRIPTION:Jewish Federation of Central Massachusetts\nCalendar\nhttps://j
 ewishcentralmass.org/calendar/jfcm-13th-year-anniversary-of-the-israeli-yo
 ung-emissary-program\n\nThis is the 13th year Anniversary of the Israeli Y
 oung Emissary Program in Central MA! There will be a celebration!
DTSTART;TZID=America/New_York:20150426T140000
DTEND;TZID=America/New_York:20150426T160000
END:VEVENT
END:VCALENDAR
