BEGIN:VCALENDAR
PRODID:-//eluceo/ical//2.0/EN
VERSION:2.0
CALSCALE:GREGORIAN
BEGIN:VEVENT
UID:2e004e0fe36c52289955bb28e30747b8
DTSTAMP:20260421T233013Z
SUMMARY:Jews and Blues at Temple Emanuel Sinai
DESCRIPTION:Jewish Federation of Central Massachusetts\nCalendar\nhttps://j
 ewishcentralmass.org/calendar/jews-and-blues-at-temple-emanuel-sinai\n\nAp
 ril 8 at 4:30 pm to 6 pm – Jews and Blues at Temple Emanuel Sinai with 
 Jeff Klepper.\n\n6:15-7:15 PM Jews and Blues BBQ dinner catered by BT's Ba
 rbeque\, Sturbridge.\n\n7:30 - 9:30 PM Jews and Blues with the Big Daddy 
 Band.\n\n$36 per adult / $18 per child under 12.\n\nRSVP Deadline is April
  1st.
DTSTART;TZID=America/New_York:20170408T163000
DTEND;TZID=America/New_York:20170408T213000
END:VEVENT
END:VCALENDAR
