BEGIN:VCALENDAR
PRODID:-//eluceo/ical//2.0/EN
VERSION:2.0
CALSCALE:GREGORIAN
BEGIN:VEVENT
UID:27cc12b71cac2bd2d964555bc451a36b
DTSTAMP:20260422T234905Z
SUMMARY:JewMass Newcomers 2020 via Zoom
DESCRIPTION:Jewish Federation of Central Massachusetts\nCalendar\nhttps://j
 ewishcentralmass.org/calendar/jewmass-newcomers-2020\n\nJewMass Newcomers 
 September  7th\, 6:00 pm via Zoom
DTSTART;TZID=America/New_York:20200907T180000
DTEND;TZID=America/New_York:20200907T200000
END:VEVENT
END:VCALENDAR
