BEGIN:VCALENDAR
PRODID:-//eluceo/ical//2.0/EN
VERSION:2.0
CALSCALE:GREGORIAN
BEGIN:VEVENT
UID:e5d17f9d7a33f4e910eee1bdca7d9ece
DTSTAMP:20260422T103420Z
SUMMARY:JewMass kickoff reception - 2017
DESCRIPTION:Jewish Federation of Central Massachusetts\nCalendar\nhttps://j
 ewishcentralmass.org/calendar/jewmass-kickoff-reception-2017\n\nJewMass ki
 ckoff reception 
DTSTART;TZID=America/New_York:20170919T170000
DTEND;TZID=America/New_York:20170919T190000
END:VEVENT
END:VCALENDAR
