BEGIN:VCALENDAR
PRODID:-//eluceo/ical//2.0/EN
VERSION:2.0
CALSCALE:GREGORIAN
BEGIN:VEVENT
UID:df9b9e11aa08dd4cd22a03d248eb3558
DTSTAMP:20260422T064636Z
SUMMARY:JewMass and YAD Zoominar: “Who Planted the Trees?"
DESCRIPTION:Jewish Federation of Central Massachusetts\nCalendar\nhttps://j
 ewishcentralmass.org/calendar/jewmass-and-yad-zoominar-who-planted-the-tre
 es\n\nSeptember 21st JewMass and YAD Zoominar: “Who Planted the Trees?
  A Personal Story of the Holocaust from a First Generation Survivor\, Dr.
  Michael Hirsh.” 6:00 pm
DTSTART;TZID=America/New_York:20200921T180000
DTEND;TZID=America/New_York:20200921T200000
END:VEVENT
END:VCALENDAR
