BEGIN:VCALENDAR
PRODID:-//eluceo/ical//2.0/EN
VERSION:2.0
CALSCALE:GREGORIAN
BEGIN:VEVENT
UID:5068af8d55c5410ffa5b31cec9995f79
DTSTAMP:20260424T103952Z
SUMMARY:Jewish/Latino "Odessa / Havana" Concert
DESCRIPTION:Jewish Federation of Central Massachusetts\nCalendar\nhttps://j
 ewishcentralmass.org/calendar/jewishlatino-odessa-havana-concert\n\nJewish
 /Latino "Odessa / Hanana" Concert
DTSTART;TZID=America/New_York:20160305T193000
DTEND;TZID=America/New_York:20160305T220000
END:VEVENT
END:VCALENDAR
