BEGIN:VCALENDAR
PRODID:-//eluceo/ical//2.0/EN
VERSION:2.0
CALSCALE:GREGORIAN
BEGIN:VEVENT
UID:9047ef4e2ce77c261868b80faf3d9880
DTSTAMP:20260421T143711Z
SUMMARY:Jewish War Veterans placing flags at Grave sites
DESCRIPTION:Jewish Federation of Central Massachusetts\nCalendar\nhttps://j
 ewishcentralmass.org/calendar/jewish-war-veterans-placing-flags-at-grave-s
 ites\n\nJWV placing flags
DTSTART;TZID=America/New_York:20140518T100000
DTEND;TZID=America/New_York:20140518T103000
END:VEVENT
END:VCALENDAR
