BEGIN:VCALENDAR
PRODID:-//eluceo/ical//2.0/EN
VERSION:2.0
CALSCALE:GREGORIAN
BEGIN:VEVENT
UID:74d31478ba39e3280e1cc6df0e06cc01
DTSTAMP:20260423T165414Z
SUMMARY:Jewish War Veterans Luncheon Program
DESCRIPTION:Jewish Federation of Central Massachusetts\nCalendar\nhttps://j
 ewishcentralmass.org/calendar/jewish-war-veterans-luncheon-program\n\nJWV 
 Luncheon Prog
DTSTART;TZID=America/New_York:20131028T130000
DTEND;TZID=America/New_York:20131028T160000
END:VEVENT
END:VCALENDAR
