BEGIN:VCALENDAR
PRODID:-//eluceo/ical//2.0/EN
VERSION:2.0
CALSCALE:GREGORIAN
BEGIN:VEVENT
UID:3acbc3ad2e3c6f8f707de0f11396fea2
DTSTAMP:20260422T154257Z
SUMMARY:Jewish War Veterans Breakfast
DESCRIPTION:Jewish Federation of Central Massachusetts\nCalendar\nhttps://j
 ewishcentralmass.org/calendar/jewish-war-veterans-breakfast7\n\nJWV Brkfst
DTSTART;TZID=America/New_York:20140629T100000
DTEND;TZID=America/New_York:20140629T103000
END:VEVENT
END:VCALENDAR
