BEGIN:VCALENDAR
PRODID:-//eluceo/ical//2.0/EN
VERSION:2.0
CALSCALE:GREGORIAN
BEGIN:VEVENT
UID:589c42349426f5815705c0e1fcf7def2
DTSTAMP:20260422T081442Z
SUMMARY:Jewish War Veteran's Breakfast
DESCRIPTION:Jewish Federation of Central Massachusetts\nCalendar\nhttps://j
 ewishcentralmass.org/calendar/jewish-war-veterans-breakfast\n\nJWV Brkfst
DTSTART;TZID=America/New_York:20130929T100000
DTEND;TZID=America/New_York:20130929T103000
END:VEVENT
END:VCALENDAR
