BEGIN:VCALENDAR
PRODID:-//eluceo/ical//2.0/EN
VERSION:2.0
CALSCALE:GREGORIAN
BEGIN:VEVENT
UID:7de312beeb3b6aed949f4ce8550d1db2
DTSTAMP:20260423T125224Z
SUMMARY:Jewish Theatre with YAD and Chaverim
DESCRIPTION:Jewish Federation of Central Massachusetts\nCalendar\nhttps://j
 ewishcentralmass.org/calendar/jewish-theatre-with-yad-and-chaverim\n\nJewi
 sh Theatre with YAD and Chaverim: Thursday\, July 28th\, 7:00 pm cocktails
 \, 8:00 pm show at Worcester BrickBox Theater
DTSTART;TZID=America/New_York:20220728T190000
DTEND;TZID=America/New_York:20220728T220000
END:VEVENT
END:VCALENDAR
