BEGIN:VCALENDAR
PRODID:-//eluceo/ical//2.0/EN
VERSION:2.0
CALSCALE:GREGORIAN
BEGIN:VEVENT
UID:356341fc90105fa503242533018415ef
DTSTAMP:20260422T152013Z
SUMMARY:Jewish Scribe Demonstration at Sharrai Torah West
DESCRIPTION:Jewish Federation of Central Massachusetts\nCalendar\nhttps://j
 ewishcentralmass.org/calendar/jewish-scribe-demonstration-at-sharrai-torah
 \n\n7pm at STW will be a demonstration by a sofer (a Jewish scribe) demons
 trating how torahs and Jewish ritual objects are hand written on parchment
 .
DTSTART;TZID=America/New_York:20240926T190000
DTEND;TZID=America/New_York:20240926T210000
END:VEVENT
END:VCALENDAR
