BEGIN:VCALENDAR
PRODID:-//eluceo/ical//2.0/EN
VERSION:2.0
CALSCALE:GREGORIAN
BEGIN:VEVENT
UID:f301ba73c3066b9b24799a3626fcaf58
DTSTAMP:20260420T104738Z
SUMMARY:Jewish Latino Dialogue
DESCRIPTION:Jewish Federation of Central Massachusetts\nCalendar\nhttps://j
 ewishcentralmass.org/calendar/jewish-latino-dialogue\n\nJewish Latino Dial
 ogue
DTSTART;TZID=America/New_York:20140326T190000
DTEND;TZID=America/New_York:20140326T193000
END:VEVENT
END:VCALENDAR
