BEGIN:VCALENDAR
PRODID:-//eluceo/ical//2.0/EN
VERSION:2.0
CALSCALE:GREGORIAN
BEGIN:VEVENT
UID:27ca874f55a32c9bd3bcc5f7a9c3bb61
DTSTAMP:20260422T114847Z
SUMMARY:Jewish Historical Society Event
DESCRIPTION:Jewish Federation of Central Massachusetts\nCalendar\nhttps://j
 ewishcentralmass.org/calendar/jewish-historical-society-event\n\nJewish Hi
 storical Society Event\n\nJune 2 - from 2-4 pm\n\nTour of Stanley Kunitz H
 ome and poetry reading.\n\nMeet at Kunitz house (4 Woodford Street\; Worce
 ster)
DTSTART;TZID=America/New_York:20190602T140000
DTEND;TZID=America/New_York:20190602T160000
END:VEVENT
END:VCALENDAR
