BEGIN:VCALENDAR
PRODID:-//eluceo/ical//2.0/EN
VERSION:2.0
CALSCALE:GREGORIAN
BEGIN:VEVENT
UID:f44a23f349536e3ffb35405cc021cf9e
DTSTAMP:20260423T162448Z
SUMMARY:Jewish Heritage Night with WooSox 2021
DESCRIPTION:Jewish Federation of Central Massachusetts\nCalendar\nhttps://j
 ewishcentralmass.org/calendar/jewish-heritage-night-with-woosox\n\nSave th
 e Date! \n\nJewish Heritage Night with WooSox\n\nSunday\, August 22nd\n 
DTSTART;TZID=America/New_York:20210822T130000
DTEND;TZID=America/New_York:20210822T150000
END:VEVENT
END:VCALENDAR
