BEGIN:VCALENDAR
PRODID:-//eluceo/ical//2.0/EN
VERSION:2.0
CALSCALE:GREGORIAN
BEGIN:VEVENT
UID:8ac403a96adea04a74c9c97cc3a5c790
DTSTAMP:20260423T085500Z
SUMMARY:Jewish Heritage Night at the Red Sox
DESCRIPTION:Jewish Federation of Central Massachusetts\nCalendar\nhttps://j
 ewishcentralmass.org/calendar/jewish-heritage-night-at-the-red-sox\n\nJewi
 sh Heritage Night at the Boston Red Sox
DTSTART;TZID=America/New_York:20160622T191000
DTEND;TZID=America/New_York:20160622T220000
END:VEVENT
END:VCALENDAR
