BEGIN:VCALENDAR
PRODID:-//eluceo/ical//2.0/EN
VERSION:2.0
CALSCALE:GREGORIAN
BEGIN:VEVENT
UID:fff4f2b7a6736c400e087367485ed2e5
DTSTAMP:20260423T023041Z
SUMMARY:Jewish Heritage Day with WooSox 2023
DESCRIPTION:Jewish Federation of Central Massachusetts\nCalendar\nhttps://j
 ewishcentralmass.org/calendar/jewish-heritage-day-with-woosox-2023\n\nJewi
 sh Heritage Day with WooSox -  1:00 pm\n\nClick here for tickets.
DTSTART;TZID=America/New_York:20230625T120000
DTEND;TZID=America/New_York:20230625T160000
END:VEVENT
END:VCALENDAR
