BEGIN:VCALENDAR
PRODID:-//eluceo/ical//2.0/EN
VERSION:2.0
CALSCALE:GREGORIAN
BEGIN:VEVENT
UID:4d758153e56168f1d9892174aa55524b
DTSTAMP:20260423T222044Z
SUMMARY:Jewish Heritage Day with WooSox 2022
DESCRIPTION:Jewish Federation of Central Massachusetts\nCalendar\nhttps://j
 ewishcentralmass.org/calendar/jewish-heritage-day-with-woosox-2022\n\nJuly
  10 - Jewish Heritage Day with WooSox
DTSTART;TZID=America/New_York:20220710T130000
DTEND;TZID=America/New_York:20220710T170000
END:VEVENT
END:VCALENDAR
