BEGIN:VCALENDAR
PRODID:-//eluceo/ical//2.0/EN
VERSION:2.0
CALSCALE:GREGORIAN
BEGIN:VEVENT
UID:b10a71034c4541bd2b0e90084505a24b
DTSTAMP:20260422T202347Z
SUMMARY:Jewish Healthcare Center Road Race
DESCRIPTION:Jewish Federation of Central Massachusetts\nCalendar\nhttps://j
 ewishcentralmass.org/calendar/jewish-healthcare-center-road-race\n\nJHC Ro
 ad Race
DTSTART;TZID=America/New_York:20130929T080000
DTEND;TZID=America/New_York:20130929T170000
END:VEVENT
END:VCALENDAR
