BEGIN:VCALENDAR
PRODID:-//eluceo/ical//2.0/EN
VERSION:2.0
CALSCALE:GREGORIAN
BEGIN:VEVENT
UID:50dc3bce2b8a84033b7c25ca9f80ee32
DTSTAMP:20260422T031125Z
SUMMARY:Jewish Healthcare Center President's Club Dinner
DESCRIPTION:Jewish Federation of Central Massachusetts\nCalendar\nhttps://j
 ewishcentralmass.org/calendar/jewish-healthcare-center-presidents-club-din
 ner2\n\nJewish Healthcare Center President's Club Dinner
DTSTART;TZID=America/New_York:20151208T173000
DTEND;TZID=America/New_York:20151208T200000
END:VEVENT
END:VCALENDAR
