BEGIN:VCALENDAR
PRODID:-//eluceo/ical//2.0/EN
VERSION:2.0
CALSCALE:GREGORIAN
BEGIN:VEVENT
UID:e6b75400ca8f426caeb7eff4475fcae7
DTSTAMP:20260420T192042Z
SUMMARY:Jewish Healthcare Center Presidents Club Dinner
DESCRIPTION:Jewish Federation of Central Massachusetts\nCalendar\nhttps://j
 ewishcentralmass.org/calendar/jewish-healthcare-center-presidents-club-din
 ner\n\nJHC President Club Dinner
DTSTART;TZID=America/New_York:20130506T180000
DTEND;TZID=America/New_York:20130506T183000
END:VEVENT
END:VCALENDAR
