BEGIN:VCALENDAR
PRODID:-//eluceo/ical//2.0/EN
VERSION:2.0
CALSCALE:GREGORIAN
BEGIN:VEVENT
UID:52b3a58689a750d25a9be461dde4749a
DTSTAMP:20260423T102155Z
SUMMARY:Jewish Healthcare Center Motorcycle Run
DESCRIPTION:Jewish Federation of Central Massachusetts\nCalendar\nhttps://j
 ewishcentralmass.org/calendar/jewish-healthcare-center-motorcycle-run\n\nJ
 HC Motorcycle Run
DTSTART;TZID=America/New_York:20140504T110000
DTEND;TZID=America/New_York:20140504T190000
END:VEVENT
END:VCALENDAR
