BEGIN:VCALENDAR
PRODID:-//eluceo/ical//2.0/EN
VERSION:2.0
CALSCALE:GREGORIAN
BEGIN:VEVENT
UID:e577b62b9fe77dcf8391f3e2b6f3e8a7
DTSTAMP:20260422T013424Z
SUMMARY:Jewish Healthcare Center Ladies Aux Donor Luncheon at BI
DESCRIPTION:Jewish Federation of Central Massachusetts\nCalendar\nhttps://j
 ewishcentralmass.org/calendar/jewish-healthcare-center-ladies-aux-donor-lu
 ncheon-at-bi\n\nJHC Ladies Aux Donor Luncheon
DTSTART;TZID=America/New_York:20140521T113000
DTEND;TZID=America/New_York:20140521T120000
END:VEVENT
END:VCALENDAR
