BEGIN:VCALENDAR
PRODID:-//eluceo/ical//2.0/EN
VERSION:2.0
CALSCALE:GREGORIAN
BEGIN:VEVENT
UID:33bb4c99fdd5c06501198b6a3a38471a
DTSTAMP:20260423T032729Z
SUMMARY:Jewish Healthcare Center Board Meeting
DESCRIPTION:Jewish Federation of Central Massachusetts\nCalendar\nhttps://j
 ewishcentralmass.org/calendar/jewish-healthcare-center-board-meeting\n\nJH
 C Bd
DTSTART;TZID=America/New_York:20130108T190000
DTEND;TZID=America/New_York:20130108T193000
END:VEVENT
END:VCALENDAR
