BEGIN:VCALENDAR
PRODID:-//eluceo/ical//2.0/EN
VERSION:2.0
CALSCALE:GREGORIAN
BEGIN:VEVENT
UID:be962b9e88b8e54f651a3e502f8d08ea
DTSTAMP:20260422T071220Z
SUMMARY:Jewish Healthcare Center Auxiliary Card Party
DESCRIPTION:Jewish Federation of Central Massachusetts\nCalendar\nhttps://j
 ewishcentralmass.org/calendar/jewish-healthcare-center-auxiliary-card-part
 y\n\nJHC Aux Card Party
DTSTART;TZID=America/New_York:20151020T160000
DTEND;TZID=America/New_York:20151020T180000
END:VEVENT
END:VCALENDAR
