BEGIN:VCALENDAR
PRODID:-//eluceo/ical//2.0/EN
VERSION:2.0
CALSCALE:GREGORIAN
BEGIN:VEVENT
UID:e5559845cd223c7fee83bd6013578183
DTSTAMP:20260422T202307Z
SUMMARY:Jewish Healthcare Center Auxiliary Board Meeting
DESCRIPTION:Jewish Federation of Central Massachusetts\nCalendar\nhttps://j
 ewishcentralmass.org/calendar/jewish-healthcare-center-auxiliary-board-mee
 ting\n\nJHC Aux Bd
DTSTART;TZID=America/New_York:20130312T160000
DTEND;TZID=America/New_York:20130312T163000
END:VEVENT
END:VCALENDAR
