BEGIN:VCALENDAR
PRODID:-//eluceo/ical//2.0/EN
VERSION:2.0
CALSCALE:GREGORIAN
BEGIN:VEVENT
UID:13cafe963be82918bf4650170467be36
DTSTAMP:20260420T205434Z
SUMMARY:Jewish Healthcare Center Aux Yard Sale
DESCRIPTION:Jewish Federation of Central Massachusetts\nCalendar\nhttps://j
 ewishcentralmass.org/calendar/jewish-healthcare-center-aux-yard-sale\n\nJH
 C Aux Yard Sale
DTSTART;TZID=America/New_York:20140629T000000
DTEND;TZID=America/New_York:20140629T235900
END:VEVENT
END:VCALENDAR
