BEGIN:VCALENDAR
PRODID:-//eluceo/ical//2.0/EN
VERSION:2.0
CALSCALE:GREGORIAN
BEGIN:VEVENT
UID:e784d4feeff8bec924d95e9e713bbffa
DTSTAMP:20260422T090908Z
SUMMARY:Jewish Healthcare Center Aux Board Meeting
DESCRIPTION:Jewish Federation of Central Massachusetts\nCalendar\nhttps://j
 ewishcentralmass.org/calendar/jewish-healthcare-center-aux-board-meeting\n
 \nJHC Aux Bd
DTSTART;TZID=America/New_York:20130911T100000
DTEND;TZID=America/New_York:20130911T103000
END:VEVENT
END:VCALENDAR
