BEGIN:VCALENDAR
PRODID:-//eluceo/ical//2.0/EN
VERSION:2.0
CALSCALE:GREGORIAN
BEGIN:VEVENT
UID:b20011493c1209122d594e9382906037
DTSTAMP:20260422T055023Z
SUMMARY:Jewish Healthcare Center Annual Meeting
DESCRIPTION:Jewish Federation of Central Massachusetts\nCalendar\nhttps://j
 ewishcentralmass.org/calendar/jewish-healthcare-center-annual-meeting1\n\n
 JHC Annual Mtg
DTSTART;TZID=America/New_York:20140618T180000
DTEND;TZID=America/New_York:20140618T183000
END:VEVENT
END:VCALENDAR
