BEGIN:VCALENDAR
PRODID:-//eluceo/ical//2.0/EN
VERSION:2.0
CALSCALE:GREGORIAN
BEGIN:VEVENT
UID:d2c7bd7b11175554b7a07343ef54e11b
DTSTAMP:20260422T064516Z
SUMMARY:Jewish Healthcare Center Annual Meeting
DESCRIPTION:Jewish Federation of Central Massachusetts\nCalendar\nhttps://j
 ewishcentralmass.org/calendar/jewish-healthcare-center-annual-meeting\n\nJ
 HC Annual Meeting
DTSTART;TZID=America/New_York:20130619T190000
DTEND;TZID=America/New_York:20130619T193000
END:VEVENT
END:VCALENDAR
