BEGIN:VCALENDAR
PRODID:-//eluceo/ical//2.0/EN
VERSION:2.0
CALSCALE:GREGORIAN
BEGIN:VEVENT
UID:505a002df151f02e44e57a138c556e77
DTSTAMP:20260422T041708Z
SUMMARY:Jewish Genealogy Program
DESCRIPTION:Jewish Federation of Central Massachusetts\nCalendar\nhttps://j
 ewishcentralmass.org/calendar/jewish-genealogy-program\n\nJewish Genealogy
  Tuesday\, Oct. 23 from 7 - 8:30 p.m. \n\nJoin us at the Worcester Library
  in the Saxe Room.  In collaboration with the Jewish Historical Society o
 f Central Mass and the Jewish Genealogical Society of Greater Boston\, we 
 present a program on Jewish genealogical research\, highlighting the resou
 rces available at the library. 
DTSTART;TZID=America/New_York:20181023T190000
DTEND;TZID=America/New_York:20181023T203000
END:VEVENT
END:VCALENDAR
