BEGIN:VCALENDAR
PRODID:-//eluceo/ical//2.0/EN
VERSION:2.0
CALSCALE:GREGORIAN
BEGIN:VEVENT
UID:5969aee1ca75703ce4ff3861af4f3dd2
DTSTAMP:20260423T145543Z
SUMMARY:Jewish Federation of Central Masschusetts Governing Board Meeting
DESCRIPTION:Jewish Federation of Central Massachusetts\nCalendar\nhttps://j
 ewishcentralmass.org/calendar/jewish-federation-of-central-masschusetts-go
 verning-board-meeting\n\nJFCM Governing Bd
DTSTART;TZID=America/New_York:20130108T180000
DTEND;TZID=America/New_York:20130108T183000
END:VEVENT
END:VCALENDAR
