BEGIN:VCALENDAR
PRODID:-//eluceo/ical//2.0/EN
VERSION:2.0
CALSCALE:GREGORIAN
BEGIN:VEVENT
UID:f53506dcdf3853d65533afe555bbde38
DTSTAMP:20260421T234303Z
SUMMARY:Jewish Federation of Central Massachusetts Young Emissary Farewell 
 BBQ
DESCRIPTION:Jewish Federation of Central Massachusetts\nCalendar\nhttps://j
 ewishcentralmass.org/calendar/jewish-federation-of-central-massachusetts-y
 oung-emissary-farewell-bbq\n\nbbq
DTSTART;TZID=America/New_York:20140611T180000
DTEND;TZID=America/New_York:20140611T200000
END:VEVENT
END:VCALENDAR
