BEGIN:VCALENDAR
PRODID:-//eluceo/ical//2.0/EN
VERSION:2.0
CALSCALE:GREGORIAN
BEGIN:VEVENT
UID:9bee2f632456aad05e27cd3c941fe69c
DTSTAMP:20260421T013656Z
SUMMARY:Jewish Federation of Central Massachusetts Board Meeting
DESCRIPTION:Jewish Federation of Central Massachusetts\nCalendar\nhttps://j
 ewishcentralmass.org/calendar/jewish-federation-of-central-massachusetts-b
 oard-meeting\n\nJFCM Bd
DTSTART;TZID=America/New_York:20130924T193000
DTEND;TZID=America/New_York:20130924T200000
END:VEVENT
END:VCALENDAR
