BEGIN:VCALENDAR
PRODID:-//eluceo/ical//2.0/EN
VERSION:2.0
CALSCALE:GREGORIAN
BEGIN:VEVENT
UID:f218e47469a2361e62c622498f156217
DTSTAMP:20260422T220334Z
SUMMARY:Jewish Federation of Central Massachusets Missions Orientation Meet
 ing
DESCRIPTION:Jewish Federation of Central Massachusetts\nCalendar\nhttps://j
 ewishcentralmass.org/calendar/jewish-federation-of-central-massachusets-mi
 ssions-orientation-meeting\n\nJFCM Missions Orientation Mtg
DTSTART;TZID=America/New_York:20130117T190000
DTEND;TZID=America/New_York:20130117T193000
END:VEVENT
END:VCALENDAR
