BEGIN:VCALENDAR
PRODID:-//eluceo/ical//2.0/EN
VERSION:2.0
CALSCALE:GREGORIAN
BEGIN:VEVENT
UID:c8d489bdf621bb6a7436dd2666cc883f
DTSTAMP:20260423T014937Z
SUMMARY:Jewish Federation of Central MA Torathon
DESCRIPTION:Jewish Federation of Central Massachusetts\nCalendar\nhttps://j
 ewishcentralmass.org/calendar/jewish-federation-of-central-ma-torathon\n\n
 Torathon
DTSTART;TZID=America/New_York:20131116T180000
DTEND;TZID=America/New_York:20131116T183000
END:VEVENT
END:VCALENDAR
