BEGIN:VCALENDAR
PRODID:-//eluceo/ical//2.0/EN
VERSION:2.0
CALSCALE:GREGORIAN
BEGIN:VEVENT
UID:a1284718b490ea59f7fb26741ae715ec
DTSTAMP:20260422T112301Z
SUMMARY:Jewish Federation of Central MA Super Sunday
DESCRIPTION:Jewish Federation of Central Massachusetts\nCalendar\nhttps://j
 ewishcentralmass.org/calendar/jewish-federation-of-central-ma-super-sunday
 \n\nJFCM SUPER SUNDAY
DTSTART;TZID=America/New_York:20131020T000000
DTEND;TZID=America/New_York:20131020T235900
END:VEVENT
END:VCALENDAR
