BEGIN:VCALENDAR
PRODID:-//eluceo/ical//2.0/EN
VERSION:2.0
CALSCALE:GREGORIAN
BEGIN:VEVENT
UID:31d6ec286e0f3ab92a789d8973a00e2c
DTSTAMP:20260423T145613Z
SUMMARY:Jewish Federation of Central MA Governing Board Meeting
DESCRIPTION:Jewish Federation of Central Massachusetts\nCalendar\nhttps://j
 ewishcentralmass.org/calendar/jewish-federation-of-central-ma-governing-bo
 ard-meeting\n\nJFCM Governing Bd
DTSTART;TZID=America/New_York:20131029T193000
DTEND;TZID=America/New_York:20131029T200000
END:VEVENT
END:VCALENDAR
