BEGIN:VCALENDAR
PRODID:-//eluceo/ical//2.0/EN
VERSION:2.0
CALSCALE:GREGORIAN
BEGIN:VEVENT
UID:51bfea30160130e15536dcef14758d30
DTSTAMP:20260420T182610Z
SUMMARY:Jewish Federation of Central MA Community Relations Council Latino 
 Festival
DESCRIPTION:Jewish Federation of Central Massachusetts\nCalendar\nhttps://j
 ewishcentralmass.org/calendar/jewish-federation-of-central-ma-community-re
 lations-council-latino-festival\n\nJFCM CRC Latino Festival
DTSTART;TZID=America/New_York:20131007T190000
DTEND;TZID=America/New_York:20131007T193000
END:VEVENT
END:VCALENDAR
