BEGIN:VCALENDAR
PRODID:-//eluceo/ical//2.0/EN
VERSION:2.0
CALSCALE:GREGORIAN
BEGIN:VEVENT
UID:909779d35f6274a583274fb2d43df67b
DTSTAMP:20260422T230731Z
SUMMARY:Jewish Federation and Hadassah Tea at JHC Auditorium
DESCRIPTION:Jewish Federation of Central Massachusetts\nCalendar\nhttps://j
 ewishcentralmass.org/calendar/jewish-federation-and-hadassah-tea-at-jhc-au
 ditorium\n\nJewish Federation and Hadassah Tea at JHC Auditorium\n\nMonday
 \, March 20\, 3:30 p.m. 
DTSTART;TZID=America/New_York:20230320T153000
DTEND;TZID=America/New_York:20230320T163000
END:VEVENT
END:VCALENDAR
