BEGIN:VCALENDAR
PRODID:-//eluceo/ical//2.0/EN
VERSION:2.0
CALSCALE:GREGORIAN
BEGIN:VEVENT
UID:dd01cd72daa6472a1ddc78dc94cc1e41
DTSTAMP:20260422T224713Z
SUMMARY:Jewish Community Center Yiddish Film - Mamele\, showing at the Will
 ows
DESCRIPTION:Jewish Federation of Central Massachusetts\nCalendar\nhttps://j
 ewishcentralmass.org/calendar/jewish-community-center-yiddish-film-mamele-
 showing-at-the-willows\n\nYiddish Film - Mamele
DTSTART;TZID=America/New_York:20141216T190000
DTEND;TZID=America/New_York:20141216T210000
END:VEVENT
END:VCALENDAR
